BEGIN:VCALENDAR
VERSION:2.0
PRODID:-//Stonehill Seventh-day Adventist Church - ECPv6.15.20//NONSGML v1.0//EN
CALSCALE:GREGORIAN
METHOD:PUBLISH
X-ORIGINAL-URL:https://stonehillchurch.org
X-WR-CALDESC:Events for Stonehill Seventh-day Adventist Church
REFRESH-INTERVAL;VALUE=DURATION:PT1H
X-Robots-Tag:noindex
X-PUBLISHED-TTL:PT1H
BEGIN:VTIMEZONE
TZID:America/New_York
BEGIN:DAYLIGHT
TZOFFSETFROM:-0500
TZOFFSETTO:-0400
TZNAME:EDT
DTSTART:20230312T070000
END:DAYLIGHT
BEGIN:STANDARD
TZOFFSETFROM:-0400
TZOFFSETTO:-0500
TZNAME:EST
DTSTART:20231105T060000
END:STANDARD
BEGIN:DAYLIGHT
TZOFFSETFROM:-0500
TZOFFSETTO:-0400
TZNAME:EDT
DTSTART:20240310T070000
END:DAYLIGHT
BEGIN:STANDARD
TZOFFSETFROM:-0400
TZOFFSETTO:-0500
TZNAME:EST
DTSTART:20241103T060000
END:STANDARD
BEGIN:DAYLIGHT
TZOFFSETFROM:-0500
TZOFFSETTO:-0400
TZNAME:EDT
DTSTART:20250309T070000
END:DAYLIGHT
BEGIN:STANDARD
TZOFFSETFROM:-0400
TZOFFSETTO:-0500
TZNAME:EST
DTSTART:20251102T060000
END:STANDARD
END:VTIMEZONE
BEGIN:VEVENT
DTSTART;TZID=America/New_York:20240617T190000
DTEND;TZID=America/New_York:20240617T200000
DTSTAMP:20260424T051614
CREATED:20240618T021631Z
LAST-MODIFIED:20240705T163303Z
UID:5656-1718650800-1718654400@stonehillchurch.org
SUMMARY:Prayer Meeting | Every Wednesday @ 7:00 PM
DESCRIPTION:Join us Every Wednesday @ 7:00 PM for Prayer meeting. \nContinue steadfastly in prayer\, being watchful in it with thanksgiving. – Colossians 4:2 \nStonehill SDA is inviting you to a scheduled Zoom meeting. \nJoin Zoom Meetinghttps://zoom.us/j/97245767891?pwd=cXJzZnkwODE4Q0t4TGc0bklxbE9rUT09 \nMeeting ID: 972 4576 7891Passcode: 277321One tap mobile+13462487799\,\,97245767891#\,\,\,\,*277321# US (Houston)+16699009128\,\,97245767891#\,\,\,\,*277321# US (San Jose) \nDial by your location+1 346 248 7799 US (Houston)+1 669 900 9128 US (San Jose)+1 253 215 8782 US (Tacoma)+1 312 626 6799 US (Chicago)+1 646 558 8656 US (New York)+1 301 715 8592 US (Washington DC)Meeting ID: 972 4576 7891Passcode: 277321Find your local number: https://zoom.us/u/abY62HKf4A
URL:https://stonehillchurch.org/event/prayer-meeting-2/
LOCATION:StoneHill Seventh-Day Adventist Church.\, 4301 Kelly Ln\, Pflugerville\, United States (US) — New York\, 78660\, United States
CATEGORIES:Featured Events
ATTACH;FMTTYPE=image/png:https://stonehillchurch.org/wp-content/uploads/2024/06/unnamed-2.png
END:VEVENT
END:VCALENDAR