BEGIN:VCALENDAR
VERSION:2.0
PRODID:-//Stonehill Seventh-day Adventist Church - ECPv6.15.20//NONSGML v1.0//EN
CALSCALE:GREGORIAN
METHOD:PUBLISH
X-WR-CALNAME:Stonehill Seventh-day Adventist Church
X-ORIGINAL-URL:https://stonehillchurch.org
X-WR-CALDESC:Events for Stonehill Seventh-day Adventist Church
REFRESH-INTERVAL;VALUE=DURATION:PT1H
X-Robots-Tag:noindex
X-PUBLISHED-TTL:PT1H
BEGIN:VTIMEZONE
TZID:America/New_York
BEGIN:DAYLIGHT
TZOFFSETFROM:-0500
TZOFFSETTO:-0400
TZNAME:EDT
DTSTART:20230312T070000
END:DAYLIGHT
BEGIN:STANDARD
TZOFFSETFROM:-0400
TZOFFSETTO:-0500
TZNAME:EST
DTSTART:20231105T060000
END:STANDARD
BEGIN:DAYLIGHT
TZOFFSETFROM:-0500
TZOFFSETTO:-0400
TZNAME:EDT
DTSTART:20240310T070000
END:DAYLIGHT
BEGIN:STANDARD
TZOFFSETFROM:-0400
TZOFFSETTO:-0500
TZNAME:EST
DTSTART:20241103T060000
END:STANDARD
BEGIN:DAYLIGHT
TZOFFSETFROM:-0500
TZOFFSETTO:-0400
TZNAME:EDT
DTSTART:20250309T070000
END:DAYLIGHT
BEGIN:STANDARD
TZOFFSETFROM:-0400
TZOFFSETTO:-0500
TZNAME:EST
DTSTART:20251102T060000
END:STANDARD
END:VTIMEZONE
BEGIN:VEVENT
DTSTART;TZID=America/New_York:20240221T200000
DTEND;TZID=America/New_York:20240221T210000
DTSTAMP:20260424T051751
CREATED:20240219T042118Z
LAST-MODIFIED:20240219T045544Z
UID:3239-1708545600-1708549200@stonehillchurch.org
SUMMARY:Prayer Meeting
DESCRIPTION:Experience the transformative power of prayer at our Prayer Meeting every Wednesday from 7:00 PM to 8:00 PM. Join us in person at StoneHill SDA Church or virtually via Zoom. Whether gathered under one roof or connected through the digital space\, let us come together to seek God’s guidance\, share our hearts\, and uplift one another in prayer. Everyone is welcome as we create a sacred space to commune with the divine. Join us and be part of a community that believes in the strength of united prayers. \nJoin Zoom Meeting\nhttps://zoom.us/j/97245767891?pwd=cXJzZnkwODE4Q0t4TGc0bklxbE9rUT09 \nMeeting ID: 972 4576 7891\nPasscode: 277321\nOne tap mobile\n+13462487799\,\,97245767891#\,\,\,\,*277321# US (Houston)\n+16699009128\,\,97245767891#\,\,\,\,*277321# US (San Jose) \nDial by your location\n+1 346 248 7799 US (Houston)\n+1 669 900 9128 US (San Jose)\n+1 253 215 8782 US (Tacoma)\n+1 312 626 6799 US (Chicago)\n+1 646 558 8656 US (New York)\n+1 301 715 8592 US (Washington DC)\nMeeting ID: 972 4576 7891\nPasscode: 277321\nFind your local number: https://zoom.us/u/abY62HKf4A
URL:https://stonehillchurch.org/event/prayer-meeting/
LOCATION:StoneHill Seventh-Day Adventist Church.\, 4301 Kelly Ln\, Pflugerville\, United States (US) — New York\, 78660\, United States
CATEGORIES:Prayer Meeting
END:VEVENT
BEGIN:VEVENT
DTSTART;VALUE=DATE:20241016
DTEND;VALUE=DATE:20241030
DTSTAMP:20260424T051751
CREATED:20181014T195137Z
LAST-MODIFIED:20240618T212817Z
UID:275-1729036800-1730246399@stonehillchurch.org
SUMMARY:2024 Kenya Mission Trip
DESCRIPTION:Join us from October 16-29\, 2024 to help construct a school complex in Kimogoro\, Kenya. We will be one of several teams to work on the complex over the next year. \nThe school is overcrowded and needs more dormitories and classrooms to allow all of the children to get an education in an environment conducive to learning. \nCosts are estimated to be around $2400-2500 from the Houston area. Other cities will be dependent upon airfare. We will finalize costs by the end of January. \nIf you are interested\, please fill out the interest form at the button below. We need to understand our numbers by January 10th to finalize the airline numbers. \nPray about your involvement – this will be a special trip and would love to have you be part of it!
URL:https://stonehillchurch.org/event/2018-kenya-mission-trip/
LOCATION:Kimogoro\, Kenya
CATEGORIES:Featured Events
ATTACH;FMTTYPE=image/jpeg:https://stonehillchurch.org/wp-content/uploads/2018/10/Kenya-mission-2024.jpg
END:VEVENT
END:VCALENDAR